{"text_format":"1","workbook":"xlsx","n_sheets":2,"sheets":["Hd, Buses & Lmd contribution","Slide06(HD)"],"not_rendered":{"charts":3,"images":0,"macros":0,"external_links":2,"defined_names":32,"comments":0,"pivot_tables":0},"unopened":[],"bounds":{"document_bytes":16777216,"sheet_cells":100000,"rows_first":2000,"rows_last":500,"rows_between":2000,"halvings":0,"cell_chars":16384,"cell_head_chars":4096},"cells_cut":0,"cells_raw":0,"read":"whole","date_system":"1900"}

{"sheet":"Hd, Buses & Lmd contribution","index":0,"n_rows":5,"n_cols":27,"rows_kept":5,"cut":false,"hidden":false,"merged":[[1,2,1,9],[1,14,1,26],[3,15,3,17],[3,18,3,20],[3,24,3,26],[3,21,3,23],[3,14,4,14]]}
[]
[null,null,"EOS– Call Contribution",null,null,null,null,null,null,null,null,null,null,null,"LMD & HD – Call Closed % Within 24hrs"]
[]
[null,null,"Month","Total calls","Hd","Buses","Lmd","Hd %","Buses %","Lmd %",null,null,null,null,"Month","Hd",null,null,"Buses",null,null,"Lmd",null,null,"Within 24hrs"]
[null,null,null,null,null,null,null,null,null,null,null,null,null,null,null,"Within 24hrs","Beyond 24hrs","Total","Within 24hrs","Beyond 24hrs","Total","Within 24hrs","Beyond 24hrs","Total","Hd %","Buses %","Lmd %"]

{"sheet":"Slide06(HD)","index":1,"n_rows":17,"n_cols":43,"rows_kept":17,"cut":false,"hidden":true,"merged":[[1,2,1,8]]}
[]
[null,null,"Reason for Non Contactablity "]
[]
[null,null,"Region ","Wrong contact no","Ringing","Engage","No Number","Switch off","Partial Feedback","Customer Disconnected the Call","Call Back","Not Reachable","Out of Service","number does not Exist","Other","Total",null,"Central","Avg. 2012","2013-01-01","2013-02-01","2013-03-01","2013-04-01","2013-05-01","2013-06-01","2013-07-01","2013-08-01","2013-09-01","2013-10-01","2013-11-01","2013-12-01",null,"Region ","Wrong contact no","No response","Switch off","Partial Feedback","Customer Disconnected the Call","Call Back","Not Reachable","Out of Service","number does not Exist","Other"]
[null,null,"Avg. 2013",18.083333333333332,0,0,148.08333333333334,30.333333333333332,5.916666666666667,23.166666666666668,9.75,18.666666666666668,3.9166666666666665,4.083333333333333,120.25,{"$f":"SUM(D5:M5)","v":257.91666666666669},null,"Interested",98.333333333333329,{"$f":"#REF!","v":{"$error":"#REF!"}},{"$f":"#REF!","v":{"$error":"#REF!"}},{"$f":"#REF!","v":{"$error":"#REF!"}},{"$f":"#REF!","v":{"$error":"#REF!"}},{"$f":"#REF!","v":{"$error":"#REF!"}},{"$f":"#REF!","v":{"$error":"#REF!"}},{"$f":"#REF!","v":{"$error":"#REF!"}},{"$f":"#REF!","v":{"$error":"#REF!"}},{"$f":"#REF!","v":{"$error":"#REF!"}},{"$f":"#REF!","v":{"$error":"#REF!"}},{"$f":"#REF!","v":{"$error":"#REF!"}},{"$f":"#REF!","v":{"$error":"#REF!"}},null,"2013-01-01",20,138,45,0,0,0,0,0,0,191]
[null,null,"2014-01-01",14,69,41,11,26,8,51,7,17,8,2,38,252,null,"No Response",188.58333333333331,{"$f":"P6","v":252},{"$f":"P7","v":0},{"$f":"P8","v":0},{"$f":"P9","v":0},{"$f":"P10","v":0},{"$f":"P11","v":0},{"$f":"P12","v":0},{"$f":"P13","v":0},{"$f":"P14","v":0},{"$f":"P15","v":0},{"$f":"P16","v":0},{"$f":"P17","v":0},null,"2013-02-01",41,147,34,0,0,0,0,0,0,155]
[null,null,"2014-02-01",null,null,null,null,null,null,null,null,null,null,null,null,0,null,null,{"$f":"S5+S6","v":286.91666666666663},{"$error":"#REF!"},{"$error":"#REF!"},{"$error":"#REF!"},{"$error":"#REF!"},{"$error":"#REF!"},{"$error":"#REF!"},{"$error":"#REF!"},{"$f":"SUM(AA5:AA6)","v":{"$error":"#REF!"}},{"$f":"SUM(AB5:AB6)","v":{"$error":"#REF!"}},{"$f":"SUM(AC5:AC6)","v":{"$error":"#REF!"}},{"$f":"SUM(AD5:AD6)","v":{"$error":"#REF!"}},{"$f":"SUM(AE5:AE6)","v":{"$error":"#REF!"}},null,"2013-03-01",26,200,24,0,0,0,0,0,0,212]
[null,null,"2014-03-01",null,null,null,null,null,null,null,null,null,null,null,null,0,{"$f":"S7-#REF!","v":{"$error":"#REF!"}},{"$f":"T7-#REF!","v":{"$error":"#REF!"}},{"$f":"U7-#REF!","v":{"$error":"#REF!"}},{"$f":"V7-#REF!","v":{"$error":"#REF!"}},{"$f":"W7-#REF!","v":{"$error":"#REF!"}},{"$f":"X7-#REF!","v":{"$error":"#REF!"}},{"$f":"Y7-#REF!","v":{"$error":"#REF!"}},{"$f":"Z7-#REF!","v":{"$error":"#REF!"}},{"$f":"AA7-#REF!","v":{"$error":"#REF!"}},{"$f":"AB7-#REF!","v":{"$error":"#REF!"}},{"$f":"AC7-#REF!","v":{"$error":"#REF!"}},{"$f":"AD7-#REF!","v":{"$error":"#REF!"}},{"$f":"AE7-#REF!","v":{"$error":"#REF!"}},null,"2013-04-01",30,134,20,5,0,0,0,0,0,203]
[null,null,"2014-04-01",null,null,null,null,null,null,null,null,null,null,null,null,0,null,null,null,null,null,null,null,null,null,null,null,null,null,null,"2013-05-01",6,114,31,6,0,0,0,0,0,159]
[null,null,"2014-05-01",null,null,null,null,null,null,null,null,null,null,null,null,0,null,null,null,null,null,null,null,null,null,null,null,null,null,null,"2013-06-01",30,182,44,13,0,0,0,0,0,81]
[null,null,"2014-06-01",null,null,null,null,null,null,null,null,null,null,null,null,0,null,null,null,null,null,null,null,null,null,null,null,null,null,null,"2013-07-01",29,132,32,6,31,28,42,16,11,62]
[null,null,"2014-07-01",null,null,null,null,null,null,null,null,null,null,null,null,0,null,null,null,null,null,null,null,null,null,null,null,null,null,null,"2013-08-01",9,157,20,4,45,23,43,8,9,67]
[null,null,"2014-08-01",null,null,null,null,null,null,null,null,null,null,null,null,0,null,null,null,null,null,null,null,null,null,null,null,null,null,null,"2013-09-01",5,138,31,8,55,19,46,2,7,99]
[null,null,"2014-09-01",null,null,null,null,null,null,null,null,null,null,null,null,0,null,null,null,null,null,null,null,null,null,null,null,null,null,null,"2013-10-01",2,148,33,9,58,13,45,7,14,84]
[null,null,"2014-10-01",null,null,null,null,null,null,null,null,null,null,null,null,0,null,null,null,null,null,null,null,null,null,null,null,null,null,null,"2013-11-01",9,165,37,13,61,14,39,10,5,85]
[null,null,"2014-11-01",null,null,null,null,null,null,null,null,null,null,null,null,0,null,null,null,null,null,null,null,null,null,null,null,null,null,null,"2013-12-01",10,122,13,7,28,20,9,4,3,45]
[null,null,"2014-12-01",null,null,null,null,null,null,null,null,null,null,null,null,0,null,null,null,null,null,null,null,null,null,null,null,null,null,null,null,{"$f":"AVERAGE(AF5:AF16)","v":14.444444444444445},10433.916666666666,29,46.333333333333336,31.75,9.75,18.666666666666668,3.9166666666666665,4.083333333333333,73.75]